BEGIN:VCALENDAR
VERSION:2.0
PRODID:-//NADI Felda Keratong 10 - ECPv6.15.13.1//NONSGML v1.0//EN
CALSCALE:GREGORIAN
METHOD:PUBLISH
X-WR-CALNAME:NADI Felda Keratong 10
X-ORIGINAL-URL:https://feldakeratong10.nadi.my
X-WR-CALDESC:Events for NADI Felda Keratong 10
REFRESH-INTERVAL;VALUE=DURATION:PT1H
X-Robots-Tag:noindex
X-PUBLISHED-TTL:PT1H
BEGIN:VTIMEZONE
TZID:Asia/Kuala_Lumpur
BEGIN:STANDARD
TZOFFSETFROM:+0800
TZOFFSETTO:+0800
TZNAME:+08
DTSTART:20240101T000000
END:STANDARD
END:VTIMEZONE
BEGIN:VEVENT
DTSTART;TZID=Asia/Kuala_Lumpur:20251121T103000
DTEND;TZID=Asia/Kuala_Lumpur:20251121T113000
DTSTAMP:20260421T135100
CREATED:20251121T021237Z
LAST-MODIFIED:20251121T021237Z
UID:5044-1763721000-1763724600@feldakeratong10.nadi.my
SUMMARY:Webinar Wellbeing
DESCRIPTION:Webinar Wellbeing
URL:https://feldakeratong10.nadi.my/event/webinar-wellbeing/
LOCATION:NADI Felda Keratong 10
END:VEVENT
BEGIN:VEVENT
DTSTART;TZID=Asia/Kuala_Lumpur:20251121T150000
DTEND;TZID=Asia/Kuala_Lumpur:20251121T163000
DTSTAMP:20260421T135100
CREATED:20251121T021140Z
LAST-MODIFIED:20251121T021140Z
UID:5042-1763737200-1763742600@feldakeratong10.nadi.my
SUMMARY:Mahir Jahit
DESCRIPTION:Mahir Jahit
URL:https://feldakeratong10.nadi.my/event/mahir-jahit-2/
LOCATION:NADI Felda Keratong 10
END:VEVENT
BEGIN:VEVENT
DTSTART;TZID=Asia/Kuala_Lumpur:20251122T093000
DTEND;TZID=Asia/Kuala_Lumpur:20251122T103000
DTSTAMP:20260421T135100
CREATED:20251121T021344Z
LAST-MODIFIED:20251121T021344Z
UID:5046-1763803800-1763807400@feldakeratong10.nadi.my
SUMMARY:Tiny techies Sekolah Rendah
DESCRIPTION:Tiny Techies Sekolah Rendah
URL:https://feldakeratong10.nadi.my/event/tiny-techies-sekolah-rendah-2/
LOCATION:NADI Felda Keratong 10
END:VEVENT
BEGIN:VEVENT
DTSTART;TZID=Asia/Kuala_Lumpur:20251122T093000
DTEND;TZID=Asia/Kuala_Lumpur:20251122T170000
DTSTAMP:20260421T135100
CREATED:20251121T021714Z
LAST-MODIFIED:20251121T021714Z
UID:5050-1763803800-1763830800@feldakeratong10.nadi.my
SUMMARY:E-Sports
DESCRIPTION:E-Sports
URL:https://feldakeratong10.nadi.my/event/e-sports/
LOCATION:NADI Felda Keratong 10
END:VEVENT
BEGIN:VEVENT
DTSTART;TZID=Asia/Kuala_Lumpur:20251122T143000
DTEND;TZID=Asia/Kuala_Lumpur:20251122T163000
DTSTAMP:20260421T135100
CREATED:20251121T021634Z
LAST-MODIFIED:20251121T021634Z
UID:5048-1763821800-1763829000@feldakeratong10.nadi.my
SUMMARY:DILEA
DESCRIPTION:DILEA – Webinar Berkala BM
URL:https://feldakeratong10.nadi.my/event/dilea/
LOCATION:NADI Felda Keratong 10
END:VEVENT
BEGIN:VEVENT
DTSTART;TZID=Asia/Kuala_Lumpur:20251125T093000
DTEND;TZID=Asia/Kuala_Lumpur:20251125T110000
DTSTAMP:20260421T135100
CREATED:20251121T022151Z
LAST-MODIFIED:20251121T022151Z
UID:5052-1764063000-1764068400@feldakeratong10.nadi.my
SUMMARY:Mahir Masak
DESCRIPTION:Mahir Masak
URL:https://feldakeratong10.nadi.my/event/mahir-masak-3/
LOCATION:NADI Felda Keratong 10
END:VEVENT
BEGIN:VEVENT
DTSTART;TZID=Asia/Kuala_Lumpur:20251126T150000
DTEND;TZID=Asia/Kuala_Lumpur:20251126T163000
DTSTAMP:20260421T135100
CREATED:20251121T022318Z
LAST-MODIFIED:20251121T022318Z
UID:5054-1764169200-1764174600@feldakeratong10.nadi.my
SUMMARY:Mahir Jahit
DESCRIPTION:Mahir Jahit
URL:https://feldakeratong10.nadi.my/event/mahir-jahit-3/
LOCATION:NADI Felda Keratong 10
END:VEVENT
BEGIN:VEVENT
DTSTART;TZID=Asia/Kuala_Lumpur:20251127T153000
DTEND;TZID=Asia/Kuala_Lumpur:20251127T163000
DTSTAMP:20260421T135100
CREATED:20251121T022404Z
LAST-MODIFIED:20251121T022404Z
UID:5056-1764257400-1764261000@feldakeratong10.nadi.my
SUMMARY:DILEA - Open Tuition
DESCRIPTION:Open Tuition
URL:https://feldakeratong10.nadi.my/event/dilea-open-tuition/
END:VEVENT
BEGIN:VEVENT
DTSTART;TZID=Asia/Kuala_Lumpur:20251128T093000
DTEND;TZID=Asia/Kuala_Lumpur:20251128T110000
DTSTAMP:20260421T135100
CREATED:20251121T022449Z
LAST-MODIFIED:20251121T022449Z
UID:5058-1764322200-1764327600@feldakeratong10.nadi.my
SUMMARY:Mahir Foto
DESCRIPTION:Mahir Foto
URL:https://feldakeratong10.nadi.my/event/mahir-foto/
END:VEVENT
END:VCALENDAR