BEGIN:VCALENDAR
VERSION:2.0
PRODID:-//NADI Felda Keratong 10 - ECPv6.15.13.1//NONSGML v1.0//EN
CALSCALE:GREGORIAN
METHOD:PUBLISH
X-WR-CALNAME:NADI Felda Keratong 10
X-ORIGINAL-URL:https://feldakeratong10.nadi.my
X-WR-CALDESC:Events for NADI Felda Keratong 10
REFRESH-INTERVAL;VALUE=DURATION:PT1H
X-Robots-Tag:noindex
X-PUBLISHED-TTL:PT1H
BEGIN:VTIMEZONE
TZID:Asia/Kuala_Lumpur
BEGIN:STANDARD
TZOFFSETFROM:+0800
TZOFFSETTO:+0800
TZNAME:+08
DTSTART:20240101T000000
END:STANDARD
END:VTIMEZONE
BEGIN:VEVENT
DTSTART;TZID=Asia/Kuala_Lumpur:20250306T140000
DTEND;TZID=Asia/Kuala_Lumpur:20250306T160000
DTSTAMP:20260420T143507
CREATED:20250311T032443Z
LAST-MODIFIED:20250311T032715Z
UID:4558-1741269600-1741276800@feldakeratong10.nadi.my
SUMMARY:Kelas Mahir Foto
DESCRIPTION:Kelas Mahir Foto setiap hari jumaat
URL:https://feldakeratong10.nadi.my/event/kelas-mahir-foto-4/
LOCATION:NADI Felda Keratong 10
END:VEVENT
BEGIN:VEVENT
DTSTART;TZID=Asia/Kuala_Lumpur:20250308T093000
DTEND;TZID=Asia/Kuala_Lumpur:20250308T103000
DTSTAMP:20260420T143507
CREATED:20250311T032756Z
LAST-MODIFIED:20250311T032756Z
UID:4561-1741426200-1741429800@feldakeratong10.nadi.my
SUMMARY:Kelas Kesedaran E-Sport
DESCRIPTION:Kelas Kesedaran E-Sport MLBB
URL:https://feldakeratong10.nadi.my/event/kelas-kesedaran-e-sport/
LOCATION:NADI Felda Keratong 10
END:VEVENT
BEGIN:VEVENT
DTSTART;TZID=Asia/Kuala_Lumpur:20250311T080000
DTEND;TZID=Asia/Kuala_Lumpur:20250311T170000
DTSTAMP:20260420T143507
CREATED:20250311T032825Z
LAST-MODIFIED:20250311T032825Z
UID:4563-1741680000-1741712400@feldakeratong10.nadi.my
SUMMARY:Kelas Mahir Masak
DESCRIPTION:Kelas Mahir Masak setiap hari selasa
URL:https://feldakeratong10.nadi.my/event/kelas-mahir-masak-6/
LOCATION:NADI Felda Keratong 10
END:VEVENT
BEGIN:VEVENT
DTSTART;TZID=Asia/Kuala_Lumpur:20250313T090000
DTEND;TZID=Asia/Kuala_Lumpur:20250313T120000
DTSTAMP:20260420T143507
CREATED:20250311T032929Z
LAST-MODIFIED:20250311T032929Z
UID:4565-1741856400-1741867200@feldakeratong10.nadi.my
SUMMARY:Webinar E-Kelas Usahawan
DESCRIPTION:Webinar E-Kelas Usahawan
URL:https://feldakeratong10.nadi.my/event/webinar-e-kelas-usahawan/
LOCATION:NADI Felda Keratong 10
END:VEVENT
BEGIN:VEVENT
DTSTART;TZID=Asia/Kuala_Lumpur:20250314T140000
DTEND;TZID=Asia/Kuala_Lumpur:20250314T160000
DTSTAMP:20260420T143507
CREATED:20250311T033006Z
LAST-MODIFIED:20250311T033006Z
UID:4567-1741960800-1741968000@feldakeratong10.nadi.my
SUMMARY:Kelas Mahir Foto
DESCRIPTION:Kelas Mahir Foto
URL:https://feldakeratong10.nadi.my/event/kelas-mahir-foto-5/
LOCATION:NADI Felda Keratong 10
END:VEVENT
BEGIN:VEVENT
DTSTART;TZID=Asia/Kuala_Lumpur:20250315T090000
DTEND;TZID=Asia/Kuala_Lumpur:20250315T100000
DTSTAMP:20260420T143507
CREATED:20250311T033144Z
LAST-MODIFIED:20250311T033144Z
UID:4569-1742029200-1742032800@feldakeratong10.nadi.my
SUMMARY:NADI X Kidpreneur
DESCRIPTION:NADI X Kidpreneur
URL:https://feldakeratong10.nadi.my/event/nadi-x-kidpreneur/
LOCATION:NADI Felda Keratong 10
END:VEVENT
BEGIN:VEVENT
DTSTART;TZID=Asia/Kuala_Lumpur:20250315T093000
DTEND;TZID=Asia/Kuala_Lumpur:20250315T110000
DTSTAMP:20260420T143507
CREATED:20250311T033219Z
LAST-MODIFIED:20250311T033219Z
UID:4571-1742031000-1742036400@feldakeratong10.nadi.my
SUMMARY:Kelas Mahir Masak
DESCRIPTION:Kelas Mahir Masak
URL:https://feldakeratong10.nadi.my/event/kelas-mahir-masak-7/
LOCATION:NADI Felda Keratong 10
END:VEVENT
BEGIN:VEVENT
DTSTART;TZID=Asia/Kuala_Lumpur:20250320T090000
DTEND;TZID=Asia/Kuala_Lumpur:20250320T120000
DTSTAMP:20260420T143507
CREATED:20250311T033355Z
LAST-MODIFIED:20250311T033355Z
UID:4573-1742461200-1742472000@feldakeratong10.nadi.my
SUMMARY:Webinar E-Kelas Usahawan
DESCRIPTION:Webinar E-Kelas Usahawan
URL:https://feldakeratong10.nadi.my/event/webinar-e-kelas-usahawan-2/
LOCATION:NADI Felda Keratong 10
END:VEVENT
BEGIN:VEVENT
DTSTART;TZID=Asia/Kuala_Lumpur:20250321T140000
DTEND;TZID=Asia/Kuala_Lumpur:20250321T160000
DTSTAMP:20260420T143507
CREATED:20250311T033440Z
LAST-MODIFIED:20250311T033440Z
UID:4575-1742565600-1742572800@feldakeratong10.nadi.my
SUMMARY:Kelas Mahir Foto
DESCRIPTION:Kelas Mahir Foto
URL:https://feldakeratong10.nadi.my/event/kelas-mahir-foto-6/
LOCATION:NADI Felda Keratong 10
END:VEVENT
BEGIN:VEVENT
DTSTART;TZID=Asia/Kuala_Lumpur:20250322T093000
DTEND;TZID=Asia/Kuala_Lumpur:20250322T113000
DTSTAMP:20260420T143507
CREATED:20250311T033514Z
LAST-MODIFIED:20250311T033514Z
UID:4577-1742635800-1742643000@feldakeratong10.nadi.my
SUMMARY:Kelas Mahir Masak
DESCRIPTION:Kelas Mahir Masak
URL:https://feldakeratong10.nadi.my/event/kelas-mahir-masak-8/
LOCATION:NADI Felda Keratong 10
END:VEVENT
BEGIN:VEVENT
DTSTART;TZID=Asia/Kuala_Lumpur:20250325T093000
DTEND;TZID=Asia/Kuala_Lumpur:20250325T113000
DTSTAMP:20260420T143507
CREATED:20250311T033556Z
LAST-MODIFIED:20250311T033556Z
UID:4579-1742895000-1742902200@feldakeratong10.nadi.my
SUMMARY:Kelas Mahir Masak
DESCRIPTION:Kelas Mahir Masak
URL:https://feldakeratong10.nadi.my/event/kelas-mahir-masak-9/
LOCATION:NADI Felda Keratong 10
END:VEVENT
BEGIN:VEVENT
DTSTART;TZID=Asia/Kuala_Lumpur:20250328T140000
DTEND;TZID=Asia/Kuala_Lumpur:20250328T160000
DTSTAMP:20260420T143507
CREATED:20250311T033632Z
LAST-MODIFIED:20250311T033632Z
UID:4581-1743170400-1743177600@feldakeratong10.nadi.my
SUMMARY:Kelas Mahir Foto
DESCRIPTION:Kelas Mahir Foto
URL:https://feldakeratong10.nadi.my/event/kelas-mahir-foto-7/
LOCATION:NADI Felda Keratong 10
END:VEVENT
END:VCALENDAR