BEGIN:VCALENDAR
VERSION:2.0
PRODID:-//NADI Felda Keratong 10 - ECPv6.15.13.1//NONSGML v1.0//EN
CALSCALE:GREGORIAN
METHOD:PUBLISH
X-WR-CALNAME:NADI Felda Keratong 10
X-ORIGINAL-URL:https://feldakeratong10.nadi.my
X-WR-CALDESC:Events for NADI Felda Keratong 10
REFRESH-INTERVAL;VALUE=DURATION:PT1H
X-Robots-Tag:noindex
X-PUBLISHED-TTL:PT1H
BEGIN:VTIMEZONE
TZID:UTC
BEGIN:STANDARD
TZOFFSETFROM:+0000
TZOFFSETTO:+0000
TZNAME:UTC
DTSTART:20230101T000000
END:STANDARD
END:VTIMEZONE
BEGIN:VEVENT
DTSTART;TZID=UTC:20240802T150000
DTEND;TZID=UTC:20240802T170000
DTSTAMP:20260422T122026
CREATED:20240818T203241Z
LAST-MODIFIED:20240818T203241Z
UID:4344-1722610800-1722618000@feldakeratong10.nadi.my
SUMMARY:STEM IOT
DESCRIPTION:STEM IOT
URL:https://feldakeratong10.nadi.my/event/stem-iot-6/
LOCATION:NADI Felda Keratong 10
CATEGORIES:DEFAULT
END:VEVENT
BEGIN:VEVENT
DTSTART;TZID=UTC:20240803T100000
DTEND;TZID=UTC:20240803T120000
DTSTAMP:20260422T122026
CREATED:20240818T203323Z
LAST-MODIFIED:20240818T203323Z
UID:4345-1722679200-1722686400@feldakeratong10.nadi.my
SUMMARY:Kelas Keusahawanan
DESCRIPTION:Kelas Keusahawanan
URL:https://feldakeratong10.nadi.my/event/kelas-keusahawanan-34/
LOCATION:NADI Felda Keratong 10
CATEGORIES:DEFAULT
END:VEVENT
BEGIN:VEVENT
DTSTART;TZID=UTC:20240804T100000
DTEND;TZID=UTC:20240804T123000
DTSTAMP:20260422T122026
CREATED:20240818T203406Z
LAST-MODIFIED:20240818T203406Z
UID:4346-1722765600-1722774600@feldakeratong10.nadi.my
SUMMARY:Kelas ICT
DESCRIPTION:Kelas ICT
URL:https://feldakeratong10.nadi.my/event/kelas-ict-43/
LOCATION:NADI Felda Keratong 10
CATEGORIES:DEFAULT
END:VEVENT
BEGIN:VEVENT
DTSTART;TZID=UTC:20240807T100000
DTEND;TZID=UTC:20240807T120000
DTSTAMP:20260422T122026
CREATED:20240818T203448Z
LAST-MODIFIED:20240818T203448Z
UID:4347-1723024800-1723032000@feldakeratong10.nadi.my
SUMMARY:Kelas Keusahawanan
DESCRIPTION:Kelas Keusahawanan
URL:https://feldakeratong10.nadi.my/event/kelas-keusahawanan-35/
LOCATION:NADI Felda Keratong 10
CATEGORIES:DEFAULT
END:VEVENT
BEGIN:VEVENT
DTSTART;TZID=UTC:20240809T100000
DTEND;TZID=UTC:20240809T120000
DTSTAMP:20260422T122026
CREATED:20240818T204452Z
LAST-MODIFIED:20240818T204452Z
UID:4348-1723197600-1723204800@feldakeratong10.nadi.my
SUMMARY:Kelas ICT Power Point
DESCRIPTION:Kelas ICT Power Point
URL:https://feldakeratong10.nadi.my/event/kelas-ict-power-point-3/
LOCATION:NADI Felda Keratong 10
CATEGORIES:DEFAULT
END:VEVENT
BEGIN:VEVENT
DTSTART;TZID=UTC:20240810T100000
DTEND;TZID=UTC:20240810T123000
DTSTAMP:20260422T122026
CREATED:20240818T204917Z
LAST-MODIFIED:20240818T204917Z
UID:4349-1723284000-1723293000@feldakeratong10.nadi.my
SUMMARY:Soft Skill
DESCRIPTION:Soft Skill
URL:https://feldakeratong10.nadi.my/event/soft-skill-5/
LOCATION:NADI Felda Keratong 10
CATEGORIES:DEFAULT
END:VEVENT
BEGIN:VEVENT
DTSTART;TZID=UTC:20240811T100000
DTEND;TZID=UTC:20240811T123000
DTSTAMP:20260422T122026
CREATED:20240818T205006Z
LAST-MODIFIED:20240818T205006Z
UID:4350-1723370400-1723379400@feldakeratong10.nadi.my
SUMMARY:Stem IOT
DESCRIPTION:STEM IOT
URL:https://feldakeratong10.nadi.my/event/stem-iot-7/
LOCATION:NADI Felda Keratong 10
CATEGORIES:DEFAULT
END:VEVENT
BEGIN:VEVENT
DTSTART;TZID=UTC:20240814T150000
DTEND;TZID=UTC:20240814T170000
DTSTAMP:20260422T122026
CREATED:20240818T205115Z
LAST-MODIFIED:20240818T205115Z
UID:4351-1723647600-1723654800@feldakeratong10.nadi.my
SUMMARY:Advokasi
DESCRIPTION:Advokasi
URL:https://feldakeratong10.nadi.my/event/advokasi-83/
LOCATION:NADI Felda Keratong 10
CATEGORIES:DEFAULT
END:VEVENT
BEGIN:VEVENT
DTSTART;TZID=UTC:20240817T100000
DTEND;TZID=UTC:20240817T123000
DTSTAMP:20260422T122026
CREATED:20240818T233207Z
LAST-MODIFIED:20240818T233207Z
UID:4352-1723888800-1723897800@feldakeratong10.nadi.my
SUMMARY:Kelas ICT Power Point
DESCRIPTION:Kelas ICT Power Point
URL:https://feldakeratong10.nadi.my/event/kelas-ict-power-point-4/
LOCATION:NADI Felda Keratong 10
CATEGORIES:DEFAULT
END:VEVENT
BEGIN:VEVENT
DTSTART;TZID=UTC:20240818T100000
DTEND;TZID=UTC:20240818T130000
DTSTAMP:20260422T122026
CREATED:20240818T233258Z
LAST-MODIFIED:20240818T233258Z
UID:4353-1723975200-1723986000@feldakeratong10.nadi.my
SUMMARY:Pertandingan Slide Merdeka
DESCRIPTION:Pertandingan Slide Merdeka
URL:https://feldakeratong10.nadi.my/event/pertandingan-slide-merdeka-4/
LOCATION:NADI Felda Keratong 10
CATEGORIES:DEFAULT
END:VEVENT
BEGIN:VEVENT
DTSTART;TZID=UTC:20240824T100000
DTEND;TZID=UTC:20240824T123000
DTSTAMP:20260422T122026
CREATED:20240818T233356Z
LAST-MODIFIED:20240818T233356Z
UID:4354-1724493600-1724502600@feldakeratong10.nadi.my
SUMMARY:Pertandingan MyKomuniti Merdeka
DESCRIPTION:Pertandingan MYKomuniti Merdeka
URL:https://feldakeratong10.nadi.my/event/pertandingan-mykomuniti-merdeka/
LOCATION:NADI Felda Keratong 10
CATEGORIES:DEFAULT
END:VEVENT
BEGIN:VEVENT
DTSTART;TZID=UTC:20240825T100000
DTEND;TZID=UTC:20240825T123000
DTSTAMP:20260422T122026
CREATED:20240818T233447Z
LAST-MODIFIED:20240818T233447Z
UID:4355-1724580000-1724589000@feldakeratong10.nadi.my
SUMMARY:Pertandingan Mewarna Merdeka
DESCRIPTION:Pertandingan Mewarna Merdeka
URL:https://feldakeratong10.nadi.my/event/pertandingan-mewarna-merdeka-2/
LOCATION:NADI Felda Keratong 10
CATEGORIES:DEFAULT
END:VEVENT
BEGIN:VEVENT
DTSTART;TZID=UTC:20240826T100000
DTEND;TZID=UTC:20240826T120000
DTSTAMP:20260422T122026
CREATED:20240818T233531Z
LAST-MODIFIED:20240818T233531Z
UID:4356-1724666400-1724673600@feldakeratong10.nadi.my
SUMMARY:Kelas ICT Excel
DESCRIPTION:Kelas ICT Excel
URL:https://feldakeratong10.nadi.my/event/kelas-ict-excel-2/
LOCATION:NADI Felda Keratong 10
CATEGORIES:DEFAULT
END:VEVENT
BEGIN:VEVENT
DTSTART;TZID=UTC:20240830T100000
DTEND;TZID=UTC:20240830T120000
DTSTAMP:20260422T122026
CREATED:20240818T233630Z
LAST-MODIFIED:20240818T233630Z
UID:4357-1725012000-1725019200@feldakeratong10.nadi.my
SUMMARY:Soft Skill
DESCRIPTION:Soft Skill
URL:https://feldakeratong10.nadi.my/event/soft-skill-6/
LOCATION:NADI Felda Keratong 10
CATEGORIES:DEFAULT
END:VEVENT
END:VCALENDAR