BEGIN:VCALENDAR
VERSION:2.0
PRODID:-//NADI Felda Keratong 10 - ECPv6.15.13.1//NONSGML v1.0//EN
CALSCALE:GREGORIAN
METHOD:PUBLISH
X-WR-CALNAME:NADI Felda Keratong 10
X-ORIGINAL-URL:https://feldakeratong10.nadi.my
X-WR-CALDESC:Events for NADI Felda Keratong 10
REFRESH-INTERVAL;VALUE=DURATION:PT1H
X-Robots-Tag:noindex
X-PUBLISHED-TTL:PT1H
BEGIN:VTIMEZONE
TZID:UTC
BEGIN:STANDARD
TZOFFSETFROM:+0000
TZOFFSETTO:+0000
TZNAME:UTC
DTSTART:20220101T000000
END:STANDARD
END:VTIMEZONE
BEGIN:VEVENT
DTSTART;TZID=UTC:20231004T150000
DTEND;TZID=UTC:20231004T170000
DTSTAMP:20260426T034426
CREATED:20231010T184019Z
LAST-MODIFIED:20231010T184019Z
UID:4260-1696431600-1696438800@feldakeratong10.nadi.my
SUMMARY:Advokasi
DESCRIPTION:Advokasi
URL:https://feldakeratong10.nadi.my/event/advokasi-71/
LOCATION:PEDi Felda Keratong 10\, PEDi Felda Keratong 10
CATEGORIES:DEFAULT
END:VEVENT
BEGIN:VEVENT
DTSTART;TZID=UTC:20231006T100000
DTEND;TZID=UTC:20231006T120000
DTSTAMP:20260426T034426
CREATED:20231010T190831Z
LAST-MODIFIED:20231010T190831Z
UID:4261-1696586400-1696593600@feldakeratong10.nadi.my
SUMMARY:Kelas ICT Microsoft Excel
DESCRIPTION:Kelas ICT Microsoft Exel
URL:https://feldakeratong10.nadi.my/event/kelas-ict-microsoft-excel-14/
LOCATION:PEDi Felda Keratong 10\, PEDi Felda Keratong 10
CATEGORIES:DEFAULT
END:VEVENT
BEGIN:VEVENT
DTSTART;TZID=UTC:20231008T100000
DTEND;TZID=UTC:20231008T120000
DTSTAMP:20260426T034426
CREATED:20231010T190909Z
LAST-MODIFIED:20231010T190909Z
UID:4262-1696759200-1696766400@feldakeratong10.nadi.my
SUMMARY:Kelas Usahawan
DESCRIPTION:Kelas Usahawan
URL:https://feldakeratong10.nadi.my/event/kelas-usahawan-13/
LOCATION:PEDi Felda Keratong 10\, PEDi Felda Keratong 10
CATEGORIES:DEFAULT
END:VEVENT
BEGIN:VEVENT
DTSTART;TZID=UTC:20231012T030000
DTEND;TZID=UTC:20231012T170000
DTSTAMP:20260426T034426
CREATED:20231010T191050Z
LAST-MODIFIED:20231010T191050Z
UID:4263-1697079600-1697130000@feldakeratong10.nadi.my
SUMMARY:Advokasi
DESCRIPTION:Advokasi
URL:https://feldakeratong10.nadi.my/event/advokasi-72/
LOCATION:PEDi Felda Keratong 10\, PEDi Felda Keratong 10
CATEGORIES:DEFAULT
END:VEVENT
BEGIN:VEVENT
DTSTART;TZID=UTC:20231013T100000
DTEND;TZID=UTC:20231013T120000
DTSTAMP:20260426T034426
CREATED:20231010T191230Z
LAST-MODIFIED:20231010T191230Z
UID:4264-1697191200-1697198400@feldakeratong10.nadi.my
SUMMARY:Kelas ICT Excel
DESCRIPTION:Kelas ICT Excel
URL:https://feldakeratong10.nadi.my/event/kelas-ict-excel/
LOCATION:PEDi Felda Keratong 10\, PEDi Felda Keratong 10
CATEGORIES:DEFAULT
END:VEVENT
BEGIN:VEVENT
DTSTART;TZID=UTC:20231015T100000
DTEND;TZID=UTC:20231015T120000
DTSTAMP:20260426T034426
CREATED:20231010T193002Z
LAST-MODIFIED:20231010T193002Z
UID:4265-1697364000-1697371200@feldakeratong10.nadi.my
SUMMARY:Soft Skills
DESCRIPTION:Soft Skills
URL:https://feldakeratong10.nadi.my/event/soft-skills/
LOCATION:PEDi Felda Keratong 10\, PEDi Felda Keratong 10
CATEGORIES:DEFAULT
END:VEVENT
BEGIN:VEVENT
DTSTART;TZID=UTC:20231018T150000
DTEND;TZID=UTC:20231018T170000
DTSTAMP:20260426T034426
CREATED:20231010T193331Z
LAST-MODIFIED:20231010T193331Z
UID:4266-1697641200-1697648400@feldakeratong10.nadi.my
SUMMARY:Kelas Usahawan
DESCRIPTION:Kelas Usahawan
URL:https://feldakeratong10.nadi.my/event/kelas-usahawan-14/
LOCATION:PEDi Felda Keratong 10\, PEDi Felda Keratong 10
CATEGORIES:DEFAULT
END:VEVENT
END:VCALENDAR