BEGIN:VCALENDAR
VERSION:2.0
PRODID:-//NADI Felda Keratong 10 - ECPv6.15.13.1//NONSGML v1.0//EN
CALSCALE:GREGORIAN
METHOD:PUBLISH
X-WR-CALNAME:NADI Felda Keratong 10
X-ORIGINAL-URL:https://feldakeratong10.nadi.my
X-WR-CALDESC:Events for NADI Felda Keratong 10
REFRESH-INTERVAL;VALUE=DURATION:PT1H
X-Robots-Tag:noindex
X-PUBLISHED-TTL:PT1H
BEGIN:VTIMEZONE
TZID:UTC
BEGIN:STANDARD
TZOFFSETFROM:+0000
TZOFFSETTO:+0000
TZNAME:UTC
DTSTART:20230101T000000
END:STANDARD
END:VTIMEZONE
BEGIN:VEVENT
DTSTART;TZID=UTC:20241027T100000
DTEND;TZID=UTC:20241027T120000
DTSTAMP:20260422T204146
CREATED:20241018T195439Z
LAST-MODIFIED:20241018T195439Z
UID:4393-1730023200-1730030400@feldakeratong10.nadi.my
SUMMARY:Soft Skills
DESCRIPTION:Soft Skills
URL:https://feldakeratong10.nadi.my/event/soft-skills-3/
LOCATION:NADI Felda Keratong 10
CATEGORIES:DEFAULT
END:VEVENT
BEGIN:VEVENT
DTSTART;TZID=UTC:20241026T080000
DTEND;TZID=UTC:20241026T120000
DTSTAMP:20260422T204146
CREATED:20241018T195346Z
LAST-MODIFIED:20241018T195346Z
UID:4392-1729929600-1729944000@feldakeratong10.nadi.my
SUMMARY:TEM IOT
DESCRIPTION:STEM IOT
URL:https://feldakeratong10.nadi.my/event/tem-iot/
LOCATION:NADI Felda Keratong 10
CATEGORIES:DEFAULT
END:VEVENT
BEGIN:VEVENT
DTSTART;TZID=UTC:20241025T100000
DTEND;TZID=UTC:20241025T120000
DTSTAMP:20260422T204146
CREATED:20241018T195246Z
LAST-MODIFIED:20241018T195246Z
UID:4391-1729850400-1729857600@feldakeratong10.nadi.my
SUMMARY:Kelas ICT Excel
DESCRIPTION:Kelas ICT Excel
URL:https://feldakeratong10.nadi.my/event/kelas-ict-excel-5/
LOCATION:NADI Felda Keratong 10
CATEGORIES:DEFAULT
END:VEVENT
BEGIN:VEVENT
DTSTART;TZID=UTC:20241022T100000
DTEND;TZID=UTC:20241022T120000
DTSTAMP:20260422T204146
CREATED:20241018T195201Z
LAST-MODIFIED:20241018T195201Z
UID:4390-1729591200-1729598400@feldakeratong10.nadi.my
SUMMARY:Advokasi
DESCRIPTION:Advokasi
URL:https://feldakeratong10.nadi.my/event/advokasi-91/
LOCATION:NADI Felda Keratong 10
CATEGORIES:DEFAULT
END:VEVENT
BEGIN:VEVENT
DTSTART;TZID=UTC:20241021T100000
DTEND;TZID=UTC:20241021T120000
DTSTAMP:20260422T204146
CREATED:20241018T195112Z
LAST-MODIFIED:20241018T195112Z
UID:4389-1729504800-1729512000@feldakeratong10.nadi.my
SUMMARY:E Learning
DESCRIPTION:E Learning
URL:https://feldakeratong10.nadi.my/event/e-learning-5/
LOCATION:NADI Felda Keratong 10
CATEGORIES:DEFAULT
END:VEVENT
BEGIN:VEVENT
DTSTART;TZID=UTC:20241020T100000
DTEND;TZID=UTC:20241020T120000
DTSTAMP:20260422T204146
CREATED:20241018T194747Z
LAST-MODIFIED:20241018T194747Z
UID:4388-1729418400-1729425600@feldakeratong10.nadi.my
SUMMARY:Kelas Usahawan
DESCRIPTION:Kelas Usahawan
URL:https://feldakeratong10.nadi.my/event/kelas-usahawan-26/
LOCATION:NADI Felda Keratong 10
CATEGORIES:DEFAULT
END:VEVENT
BEGIN:VEVENT
DTSTART;TZID=UTC:20241019T100000
DTEND;TZID=UTC:20241019T120000
DTSTAMP:20260422T204146
CREATED:20241018T194702Z
LAST-MODIFIED:20241018T194702Z
UID:4387-1729332000-1729339200@feldakeratong10.nadi.my
SUMMARY:STEM IOT
DESCRIPTION:STEM IOT
URL:https://feldakeratong10.nadi.my/event/stem-iot-11/
LOCATION:NADI Felda Keratong 10
CATEGORIES:DEFAULT
END:VEVENT
BEGIN:VEVENT
DTSTART;TZID=UTC:20241018T100000
DTEND;TZID=UTC:20241018T120000
DTSTAMP:20260422T204146
CREATED:20241018T194608Z
LAST-MODIFIED:20241018T194608Z
UID:4386-1729245600-1729252800@feldakeratong10.nadi.my
SUMMARY:Advokasi
DESCRIPTION:Advokasi
URL:https://feldakeratong10.nadi.my/event/advokasi-90/
LOCATION:NADI Felda Keratong 10
CATEGORIES:DEFAULT
END:VEVENT
BEGIN:VEVENT
DTSTART;TZID=UTC:20241017T100000
DTEND;TZID=UTC:20241017T120000
DTSTAMP:20260422T204146
CREATED:20241018T194608Z
LAST-MODIFIED:20241018T194608Z
UID:4385-1729159200-1729166400@feldakeratong10.nadi.my
SUMMARY:Advokasi
DESCRIPTION:Advokasi
URL:https://feldakeratong10.nadi.my/event/advokasi-89/
LOCATION:NADI Felda Keratong 10
CATEGORIES:DEFAULT
END:VEVENT
BEGIN:VEVENT
DTSTART;TZID=UTC:20241016T100000
DTEND;TZID=UTC:20241016T120000
DTSTAMP:20260422T204146
CREATED:20241018T194505Z
LAST-MODIFIED:20241018T194505Z
UID:4384-1729072800-1729080000@feldakeratong10.nadi.my
SUMMARY:Kelas Usahawan
DESCRIPTION:Kelas Usahawan
URL:https://feldakeratong10.nadi.my/event/kelas-usahawan-25/
LOCATION:NADI Felda Keratong 10
CATEGORIES:DEFAULT
END:VEVENT
BEGIN:VEVENT
DTSTART;TZID=UTC:20241013T100000
DTEND;TZID=UTC:20241013T120000
DTSTAMP:20260422T204146
CREATED:20241018T194416Z
LAST-MODIFIED:20241018T194416Z
UID:4383-1728813600-1728820800@feldakeratong10.nadi.my
SUMMARY:Kelas ICT Media Baru
DESCRIPTION:Kelas ICT Media Baru
URL:https://feldakeratong10.nadi.my/event/kelas-ict-media-baru/
LOCATION:NADI Felda Keratong 10
CATEGORIES:DEFAULT
END:VEVENT
BEGIN:VEVENT
DTSTART;TZID=UTC:20241012T100000
DTEND;TZID=UTC:20241012T120000
DTSTAMP:20260422T204146
CREATED:20241018T194307Z
LAST-MODIFIED:20241018T194307Z
UID:4382-1728727200-1728734400@feldakeratong10.nadi.my
SUMMARY:STEM IOT
DESCRIPTION:STEM IOT
URL:https://feldakeratong10.nadi.my/event/stem-iot-10/
LOCATION:NADI Felda Keratong 10
CATEGORIES:DEFAULT
END:VEVENT
BEGIN:VEVENT
DTSTART;TZID=UTC:20241011T100000
DTEND;TZID=UTC:20241011T120000
DTSTAMP:20260422T204146
CREATED:20241018T193858Z
LAST-MODIFIED:20241018T193858Z
UID:4381-1728640800-1728648000@feldakeratong10.nadi.my
SUMMARY:Kelas ICT Excel
DESCRIPTION:Kelas ICT Excel
URL:https://feldakeratong10.nadi.my/event/kelas-ict-excel-4/
LOCATION:NADI Felda Keratong 10
CATEGORIES:DEFAULT
END:VEVENT
BEGIN:VEVENT
DTSTART;TZID=UTC:20241010T100000
DTEND;TZID=UTC:20241010T120000
DTSTAMP:20260422T204146
CREATED:20241018T193533Z
LAST-MODIFIED:20241018T193533Z
UID:4380-1728554400-1728561600@feldakeratong10.nadi.my
SUMMARY:Advokasi
DESCRIPTION:Advokasi
URL:https://feldakeratong10.nadi.my/event/advokasi-88/
LOCATION:NADI Felda Keratong 10
CATEGORIES:DEFAULT
END:VEVENT
BEGIN:VEVENT
DTSTART;TZID=UTC:20241008T100000
DTEND;TZID=UTC:20241008T120000
DTSTAMP:20260422T204146
CREATED:20241018T193442Z
LAST-MODIFIED:20241018T193442Z
UID:4379-1728381600-1728388800@feldakeratong10.nadi.my
SUMMARY:Advokasi
DESCRIPTION:Advokasi
URL:https://feldakeratong10.nadi.my/event/advokasi-87/
LOCATION:NADI Felda Keratong 10
CATEGORIES:DEFAULT
END:VEVENT
BEGIN:VEVENT
DTSTART;TZID=UTC:20241006T100000
DTEND;TZID=UTC:20241006T120000
DTSTAMP:20260422T204146
CREATED:20241018T193304Z
LAST-MODIFIED:20241018T193304Z
UID:4378-1728208800-1728216000@feldakeratong10.nadi.my
SUMMARY:soft Skills
DESCRIPTION:Soft Skills
URL:https://feldakeratong10.nadi.my/event/soft-skills-2/
LOCATION:NADI Felda Keratong 10
CATEGORIES:DEFAULT
END:VEVENT
BEGIN:VEVENT
DTSTART;TZID=UTC:20241005T100000
DTEND;TZID=UTC:20241005T120000
DTSTAMP:20260422T204146
CREATED:20241018T192741Z
LAST-MODIFIED:20241018T192741Z
UID:4377-1728122400-1728129600@feldakeratong10.nadi.my
SUMMARY:Kelas Usahawan
DESCRIPTION:Kelas Usahawan
URL:https://feldakeratong10.nadi.my/event/kelas-usahawan-24/
LOCATION:NADI Felda Keratong 10
CATEGORIES:DEFAULT
END:VEVENT
BEGIN:VEVENT
DTSTART;TZID=UTC:20241004T100000
DTEND;TZID=UTC:20241004T120000
DTSTAMP:20260422T204146
CREATED:20241018T192238Z
LAST-MODIFIED:20241018T192238Z
UID:4376-1728036000-1728043200@feldakeratong10.nadi.my
SUMMARY:Kelas ICT Excel
DESCRIPTION:Kelas ICT Excel
URL:https://feldakeratong10.nadi.my/event/kelas-ict-excel-3/
LOCATION:NADI Felda Keratong 10
CATEGORIES:DEFAULT
END:VEVENT
BEGIN:VEVENT
DTSTART;TZID=UTC:20241002T100000
DTEND;TZID=UTC:20241002T120000
DTSTAMP:20260422T204146
CREATED:20241018T190608Z
LAST-MODIFIED:20241018T190608Z
UID:4375-1727863200-1727870400@feldakeratong10.nadi.my
SUMMARY:Advokasi
DESCRIPTION:Advokasi
URL:https://feldakeratong10.nadi.my/event/advokasi-86/
LOCATION:NADI Felda Keratong 10
CATEGORIES:DEFAULT
END:VEVENT
BEGIN:VEVENT
DTSTART;TZID=UTC:20240930T100000
DTEND;TZID=UTC:20240930T120000
DTSTAMP:20260422T204146
CREATED:20240920T184927Z
LAST-MODIFIED:20240920T184927Z
UID:4374-1727690400-1727697600@feldakeratong10.nadi.my
SUMMARY:Soft Skill
DESCRIPTION:Soft Skill
URL:https://feldakeratong10.nadi.my/event/soft-skill-7/
LOCATION:NADI Felda Keratong 10
CATEGORIES:DEFAULT
END:VEVENT
BEGIN:VEVENT
DTSTART;TZID=UTC:20240928T100000
DTEND;TZID=UTC:20240928T120000
DTSTAMP:20260422T204146
CREATED:20240920T184848Z
LAST-MODIFIED:20240920T184848Z
UID:4373-1727517600-1727524800@feldakeratong10.nadi.my
SUMMARY:Kelas ICT Microsoft Excel
DESCRIPTION:Kelas Microsoft Excel
URL:https://feldakeratong10.nadi.my/event/kelas-ict-microsoft-excel-15/
LOCATION:NADI Felda Keratong 10
CATEGORIES:DEFAULT
END:VEVENT
BEGIN:VEVENT
DTSTART;TZID=UTC:20240927T080000
DTEND;TZID=UTC:20240927T123000
DTSTAMP:20260422T204146
CREATED:20240920T184757Z
LAST-MODIFIED:20240920T184757Z
UID:4372-1727424000-1727440200@feldakeratong10.nadi.my
SUMMARY:Sambutan Maulidur Rasul
DESCRIPTION:Sambutan Maulidur Rasul
URL:https://feldakeratong10.nadi.my/event/sambutan-maulidur-rasul/
LOCATION:Masjid Felda Keratong 10\, Masjid Felda Keratong 10
CATEGORIES:DEFAULT
END:VEVENT
BEGIN:VEVENT
DTSTART;TZID=UTC:20240925T150000
DTEND;TZID=UTC:20240925T170000
DTSTAMP:20260422T204146
CREATED:20240920T184654Z
LAST-MODIFIED:20240920T184654Z
UID:4370-1727276400-1727283600@feldakeratong10.nadi.my
SUMMARY:Advokasi
DESCRIPTION:Advokasi
URL:https://feldakeratong10.nadi.my/event/advokasi-85/
LOCATION:NADI Felda Keratong 10
CATEGORIES:DEFAULT
END:VEVENT
BEGIN:VEVENT
DTSTART;TZID=UTC:20240923T150000
DTEND;TZID=UTC:20240923T170000
DTSTAMP:20260422T204146
CREATED:20240920T184624Z
LAST-MODIFIED:20240920T184624Z
UID:4369-1727103600-1727110800@feldakeratong10.nadi.my
SUMMARY:Advokasi
DESCRIPTION:Advokasi
URL:https://feldakeratong10.nadi.my/event/advokasi-84/
LOCATION:NADI Felda Keratong 10
CATEGORIES:DEFAULT
END:VEVENT
BEGIN:VEVENT
DTSTART;TZID=UTC:20240922T100000
DTEND;TZID=UTC:20240922T120000
DTSTAMP:20260422T204146
CREATED:20240920T184430Z
LAST-MODIFIED:20240920T184430Z
UID:4368-1726999200-1727006400@feldakeratong10.nadi.my
SUMMARY:Kelas Usahawan
DESCRIPTION:Kelas Usahawan
URL:https://feldakeratong10.nadi.my/event/kelas-usahawan-23/
LOCATION:NADI Felda Keratong 10
CATEGORIES:DEFAULT
END:VEVENT
BEGIN:VEVENT
DTSTART;TZID=UTC:20240920T150000
DTEND;TZID=UTC:20240920T170000
DTSTAMP:20260422T204146
CREATED:20240920T183252Z
LAST-MODIFIED:20240920T183252Z
UID:4367-1726844400-1726851600@feldakeratong10.nadi.my
SUMMARY:Stem IOT
DESCRIPTION:Stem IOT
URL:https://feldakeratong10.nadi.my/event/stem-iot-9/
LOCATION:NADI Felda Keratong 10
CATEGORIES:DEFAULT
END:VEVENT
BEGIN:VEVENT
DTSTART;TZID=UTC:20240919T080000
DTEND;TZID=UTC:20240919T150000
DTSTAMP:20260422T204146
CREATED:20240920T183108Z
LAST-MODIFIED:20240920T183108Z
UID:4366-1726732800-1726758000@feldakeratong10.nadi.my
SUMMARY:Program Cuti Sekolah
DESCRIPTION:Program cuti sekolah
URL:https://feldakeratong10.nadi.my/event/program-cuti-sekolah/
LOCATION:NADI Felda Keratong 10
CATEGORIES:DEFAULT
END:VEVENT
BEGIN:VEVENT
DTSTART;TZID=UTC:20240915T100000
DTEND;TZID=UTC:20240915T123000
DTSTAMP:20260422T204146
CREATED:20240920T183025Z
LAST-MODIFIED:20240920T183025Z
UID:4365-1726394400-1726403400@feldakeratong10.nadi.my
SUMMARY:Sambutan Pra Hari Malaysia
DESCRIPTION:Sambutan Pra Hari Malaysia
URL:https://feldakeratong10.nadi.my/event/sambutan-pra-hari-malaysia-3/
LOCATION:NADI Felda Keratong 10
CATEGORIES:DEFAULT
END:VEVENT
BEGIN:VEVENT
DTSTART;TZID=UTC:20240914T100000
DTEND;TZID=UTC:20240914T123000
DTSTAMP:20260422T204146
CREATED:20240920T182904Z
LAST-MODIFIED:20240920T182904Z
UID:4364-1726308000-1726317000@feldakeratong10.nadi.my
SUMMARY:Pertandingan Karangan Merdeka (Word)
DESCRIPTION:Pertandingan Karangan Merdeka (Word)
URL:https://feldakeratong10.nadi.my/event/pertandingan-karangan-merdeka-word-2/
LOCATION:NADI Felda Keratong 10
CATEGORIES:DEFAULT
END:VEVENT
BEGIN:VEVENT
DTSTART;TZID=UTC:20240913T150000
DTEND;TZID=UTC:20240913T173000
DTSTAMP:20260422T204146
CREATED:20240920T182002Z
LAST-MODIFIED:20240920T182002Z
UID:4362-1726239600-1726248600@feldakeratong10.nadi.my
SUMMARY:Stem IOT
DESCRIPTION:Stem IOT
URL:https://feldakeratong10.nadi.my/event/stem-iot-8/
LOCATION:NADI Felda Keratong 10
CATEGORIES:DEFAULT
END:VEVENT
END:VCALENDAR