BEGIN:VCALENDAR
VERSION:2.0
PRODID:-//NADI Felda Keratong 10 - ECPv6.15.13.1//NONSGML v1.0//EN
CALSCALE:GREGORIAN
METHOD:PUBLISH
X-WR-CALNAME:NADI Felda Keratong 10
X-ORIGINAL-URL:https://feldakeratong10.nadi.my
X-WR-CALDESC:Events for NADI Felda Keratong 10
REFRESH-INTERVAL;VALUE=DURATION:PT1H
X-Robots-Tag:noindex
X-PUBLISHED-TTL:PT1H
BEGIN:VTIMEZONE
TZID:Asia/Kuala_Lumpur
BEGIN:STANDARD
TZOFFSETFROM:+0800
TZOFFSETTO:+0800
TZNAME:+08
DTSTART:20240101T000000
END:STANDARD
END:VTIMEZONE
BEGIN:VEVENT
DTSTART;TZID=Asia/Kuala_Lumpur:20250315T090000
DTEND;TZID=Asia/Kuala_Lumpur:20250315T100000
DTSTAMP:20260422T043050
CREATED:20250311T033144Z
LAST-MODIFIED:20250311T033144Z
UID:4569-1742029200-1742032800@feldakeratong10.nadi.my
SUMMARY:NADI X Kidpreneur
DESCRIPTION:NADI X Kidpreneur
URL:https://feldakeratong10.nadi.my/event/nadi-x-kidpreneur/
LOCATION:NADI Felda Keratong 10
END:VEVENT
BEGIN:VEVENT
DTSTART;TZID=Asia/Kuala_Lumpur:20250315T093000
DTEND;TZID=Asia/Kuala_Lumpur:20250315T110000
DTSTAMP:20260422T043050
CREATED:20250311T033219Z
LAST-MODIFIED:20250311T033219Z
UID:4571-1742031000-1742036400@feldakeratong10.nadi.my
SUMMARY:Kelas Mahir Masak
DESCRIPTION:Kelas Mahir Masak
URL:https://feldakeratong10.nadi.my/event/kelas-mahir-masak-7/
LOCATION:NADI Felda Keratong 10
END:VEVENT
END:VCALENDAR