BEGIN:VCALENDAR
VERSION:2.0
PRODID:-//NADI Felda Keratong 10 - ECPv6.15.13.1//NONSGML v1.0//EN
CALSCALE:GREGORIAN
METHOD:PUBLISH
X-WR-CALNAME:NADI Felda Keratong 10
X-ORIGINAL-URL:https://feldakeratong10.nadi.my
X-WR-CALDESC:Events for NADI Felda Keratong 10
REFRESH-INTERVAL;VALUE=DURATION:PT1H
X-Robots-Tag:noindex
X-PUBLISHED-TTL:PT1H
BEGIN:VTIMEZONE
TZID:UTC
BEGIN:STANDARD
TZOFFSETFROM:+0000
TZOFFSETTO:+0000
TZNAME:UTC
DTSTART:20230101T000000
END:STANDARD
END:VTIMEZONE
BEGIN:VEVENT
DTSTART;TZID=UTC:20241201T100000
DTEND;TZID=UTC:20241201T120000
DTSTAMP:20260421T225801
CREATED:20241222T185852Z
LAST-MODIFIED:20241222T185852Z
UID:4413-1733047200-1733054400@feldakeratong10.nadi.my
SUMMARY:E-Learning
DESCRIPTION:E-Learning
URL:https://feldakeratong10.nadi.my/event/e-learning-6/
LOCATION:NADI Felda Keratong 10
END:VEVENT
END:VCALENDAR