BEGIN:VCALENDAR
VERSION:2.0
PRODID:-//NADI Felda Keratong 10 - ECPv6.15.13.1//NONSGML v1.0//EN
CALSCALE:GREGORIAN
METHOD:PUBLISH
X-WR-CALNAME:NADI Felda Keratong 10
X-ORIGINAL-URL:https://feldakeratong10.nadi.my
X-WR-CALDESC:Events for NADI Felda Keratong 10
REFRESH-INTERVAL;VALUE=DURATION:PT1H
X-Robots-Tag:noindex
X-PUBLISHED-TTL:PT1H
BEGIN:VTIMEZONE
TZID:UTC
BEGIN:STANDARD
TZOFFSETFROM:+0000
TZOFFSETTO:+0000
TZNAME:UTC
DTSTART:20230101T000000
END:STANDARD
END:VTIMEZONE
BEGIN:VEVENT
DTSTART;TZID=UTC:20241013T100000
DTEND;TZID=UTC:20241013T120000
DTSTAMP:20260422T122022
CREATED:20241018T194416Z
LAST-MODIFIED:20241018T194416Z
UID:4383-1728813600-1728820800@feldakeratong10.nadi.my
SUMMARY:Kelas ICT Media Baru
DESCRIPTION:Kelas ICT Media Baru
URL:https://feldakeratong10.nadi.my/event/kelas-ict-media-baru/
LOCATION:NADI Felda Keratong 10
CATEGORIES:DEFAULT
END:VEVENT
END:VCALENDAR