BEGIN:VCALENDAR
VERSION:2.0
PRODID:-//NADI Felda Keratong 10 - ECPv6.15.13.1//NONSGML v1.0//EN
CALSCALE:GREGORIAN
METHOD:PUBLISH
X-WR-CALNAME:NADI Felda Keratong 10
X-ORIGINAL-URL:https://feldakeratong10.nadi.my
X-WR-CALDESC:Events for NADI Felda Keratong 10
REFRESH-INTERVAL;VALUE=DURATION:PT1H
X-Robots-Tag:noindex
X-PUBLISHED-TTL:PT1H
BEGIN:VTIMEZONE
TZID:UTC
BEGIN:STANDARD
TZOFFSETFROM:+0000
TZOFFSETTO:+0000
TZNAME:UTC
DTSTART:20230101T000000
END:STANDARD
END:VTIMEZONE
BEGIN:VEVENT
DTSTART;TZID=UTC:20240907T100000
DTEND;TZID=UTC:20240907T120000
DTSTAMP:20260424T043613
CREATED:20240920T181717Z
LAST-MODIFIED:20240920T181717Z
UID:4360-1725703200-1725710400@feldakeratong10.nadi.my
SUMMARY:Kelas Usahawan
DESCRIPTION:Kelas Usahawan
URL:https://feldakeratong10.nadi.my/event/kelas-usahawan-22/
LOCATION:NADI Felda Keratong 10
CATEGORIES:DEFAULT
END:VEVENT
END:VCALENDAR