BEGIN:VCALENDAR
VERSION:2.0
PRODID:-//NADI Felda Keratong 10 - ECPv6.15.13.1//NONSGML v1.0//EN
CALSCALE:GREGORIAN
METHOD:PUBLISH
X-WR-CALNAME:NADI Felda Keratong 10
X-ORIGINAL-URL:https://feldakeratong10.nadi.my
X-WR-CALDESC:Events for NADI Felda Keratong 10
REFRESH-INTERVAL;VALUE=DURATION:PT1H
X-Robots-Tag:noindex
X-PUBLISHED-TTL:PT1H
BEGIN:VTIMEZONE
TZID:UTC
BEGIN:STANDARD
TZOFFSETFROM:+0000
TZOFFSETTO:+0000
TZNAME:UTC
DTSTART:20230101T000000
END:STANDARD
END:VTIMEZONE
BEGIN:VEVENT
DTSTART;TZID=UTC:20240719T100000
DTEND;TZID=UTC:20240719T120000
DTSTAMP:20260423T185035
CREATED:20240715T224834Z
LAST-MODIFIED:20240715T224834Z
UID:4336-1721383200-1721390400@feldakeratong10.nadi.my
SUMMARY:Dashboard MyKomuniti
DESCRIPTION:Dashboard MyKomuniti
URL:https://feldakeratong10.nadi.my/event/dashboard-mykomuniti-2/
LOCATION:NADI Felda Keratong 10
CATEGORIES:DEFAULT
END:VEVENT
END:VCALENDAR