BEGIN:VCALENDAR
VERSION:2.0
PRODID:-//NADI Felda Keratong 10 - ECPv6.15.13.1//NONSGML v1.0//EN
CALSCALE:GREGORIAN
METHOD:PUBLISH
X-WR-CALNAME:NADI Felda Keratong 10
X-ORIGINAL-URL:https://feldakeratong10.nadi.my
X-WR-CALDESC:Events for NADI Felda Keratong 10
REFRESH-INTERVAL;VALUE=DURATION:PT1H
X-Robots-Tag:noindex
X-PUBLISHED-TTL:PT1H
BEGIN:VTIMEZONE
TZID:UTC
BEGIN:STANDARD
TZOFFSETFROM:+0000
TZOFFSETTO:+0000
TZNAME:UTC
DTSTART:20230101T000000
END:STANDARD
END:VTIMEZONE
BEGIN:VEVENT
DTSTART;TZID=UTC:20240607T100000
DTEND;TZID=UTC:20240607T120000
DTSTAMP:20260424T070733
CREATED:20240611T055718Z
LAST-MODIFIED:20240611T055718Z
UID:4316-1717754400-1717761600@feldakeratong10.nadi.my
SUMMARY:Dashboard My Health
DESCRIPTION:Dashboard My Health
URL:https://feldakeratong10.nadi.my/event/dashboard-my-health-8/
LOCATION:Pusat Sebaran Maklumat Nasional\, Pusat Sebaran Maklumat Nasional
CATEGORIES:DEFAULT
END:VEVENT
END:VCALENDAR